BEGIN:VCALENDAR
VERSION:2.0
PRODID:-//Calenda//Niedziele Handlowe 2026//PL
CALSCALE:GREGORIAN
METHOD:PUBLISH
X-WR-CALNAME:Niedziele handlowe 2026
X-WR-CALDESC:Kalendarz niedziel handlowych w Polsce - 2026
BEGIN:VEVENT
UID:niedziele-handlowe-2026-1@calenda.pl
DTSTAMP:20260420T144602Z
DTSTART;VALUE=DATE:20260125
DTEND;VALUE=DATE:20260126
SUMMARY:Niedziela handlowa
DESCRIPTION:Ostatnia niedziela stycznia. Sklepy otwarte.
LOCATION:Polska
CATEGORIES:Niedziela handlowa
TRANSP:TRANSPARENT
END:VEVENT
BEGIN:VEVENT
UID:niedziele-handlowe-2026-2@calenda.pl
DTSTAMP:20260420T144602Z
DTSTART;VALUE=DATE:20260329
DTEND;VALUE=DATE:20260330
SUMMARY:Niedziela handlowa
DESCRIPTION:Niedziela przed Wielkanocą. Sklepy otwarte.
LOCATION:Polska
CATEGORIES:Niedziela handlowa
TRANSP:TRANSPARENT
END:VEVENT
BEGIN:VEVENT
UID:niedziele-handlowe-2026-3@calenda.pl
DTSTAMP:20260420T144602Z
DTSTART;VALUE=DATE:20260426
DTEND;VALUE=DATE:20260427
SUMMARY:Niedziela handlowa
DESCRIPTION:Niedziela przed Wielkanocą. Sklepy otwarte.
LOCATION:Polska
CATEGORIES:Niedziela handlowa
TRANSP:TRANSPARENT
END:VEVENT
BEGIN:VEVENT
UID:niedziele-handlowe-2026-4@calenda.pl
DTSTAMP:20260420T144602Z
DTSTART;VALUE=DATE:20260628
DTEND;VALUE=DATE:20260629
SUMMARY:Niedziela handlowa
DESCRIPTION:Ostatnia niedziela czerwca. Sklepy otwarte.
LOCATION:Polska
CATEGORIES:Niedziela handlowa
TRANSP:TRANSPARENT
END:VEVENT
BEGIN:VEVENT
UID:niedziele-handlowe-2026-5@calenda.pl
DTSTAMP:20260420T144602Z
DTSTART;VALUE=DATE:20260830
DTEND;VALUE=DATE:20260831
SUMMARY:Niedziela handlowa
DESCRIPTION:Ostatnia niedziela sierpnia. Sklepy otwarte.
LOCATION:Polska
CATEGORIES:Niedziela handlowa
TRANSP:TRANSPARENT
END:VEVENT
BEGIN:VEVENT
UID:niedziele-handlowe-2026-6@calenda.pl
DTSTAMP:20260420T144602Z
DTSTART;VALUE=DATE:20261206
DTEND;VALUE=DATE:20261207
SUMMARY:Niedziela handlowa
DESCRIPTION:Przedświąteczna niedziela grudnia. Sklepy otwarte.
LOCATION:Polska
CATEGORIES:Niedziela handlowa
TRANSP:TRANSPARENT
END:VEVENT
BEGIN:VEVENT
UID:niedziele-handlowe-2026-7@calenda.pl
DTSTAMP:20260420T144602Z
DTSTART;VALUE=DATE:20261213
DTEND;VALUE=DATE:20261214
SUMMARY:Niedziela handlowa
DESCRIPTION:Przedświąteczna niedziela grudnia. Sklepy otwarte.
LOCATION:Polska
CATEGORIES:Niedziela handlowa
TRANSP:TRANSPARENT
END:VEVENT
BEGIN:VEVENT
UID:niedziele-handlowe-2026-8@calenda.pl
DTSTAMP:20260420T144602Z
DTSTART;VALUE=DATE:20261220
DTEND;VALUE=DATE:20261221
SUMMARY:Niedziela handlowa
DESCRIPTION:Przedświąteczna niedziela grudnia. Sklepy otwarte.
LOCATION:Polska
CATEGORIES:Niedziela handlowa
TRANSP:TRANSPARENT
END:VEVENT
END:VCALENDAR